BEGIN:VCALENDAR
VERSION:2.0
PRODID:-//Tukios.com/
BEGIN:VEVENT
UID:c2a37072-b979-4a65-8248-742c95e7b5cf@www.eddyfuneralhome.com
DTSTAMP:20260420T085702Z
DTSTART:20260418T160000Z
DTEND:20260418T180000Z
SUMMARY:Visitation
DESCRIPTION:
URL:https://www.eddyfuneralhome.com/obituaries/sheldon-leppert
LOCATION:Zion Lutheran Church 121 2nd Street South  Ellendale ND 58436
GEO:45.9998039;-98.5262971
END:VEVENT
END:VCALENDAR