BEGIN:VCALENDAR
VERSION:2.0
PRODID:-//Tukios.com/
BEGIN:VEVENT
UID:c625abf7-889b-4616-b386-5dc5bb3c55cb@www.eddyfuneralhome.com
DTSTAMP:20260421T091011Z
DTSTART:20260424T190000Z
DTEND:20260424T200000Z
SUMMARY:Funeral Service
DESCRIPTION:
URL:https://www.eddyfuneralhome.com/obituaries/marlene-tuma
LOCATION: 621 1st Ave S  Jamestown ND 58401
GEO:46.9023637;-98.7077353
END:VEVENT
END:VCALENDAR