BEGIN:VCALENDAR
VERSION:2.0
PRODID:-//Tukios.com/
BEGIN:VEVENT
UID:d6eb4a34-188d-4388-bb4a-f01dca4e1ddc@www.eddyfuneralhome.com
DTSTAMP:20260424T210206Z
DTSTART:20260620T153000Z
DTEND:20260620T163000Z
SUMMARY:Celebration of Life
DESCRIPTION:
URL:https://www.eddyfuneralhome.com/obituaries/kenneth-kollman
LOCATION:Eddy Funeral Home 621 1st Ave S  Jamestown ND 58401
GEO:46.9023637;-98.7077353
END:VEVENT
END:VCALENDAR