BEGIN:VCALENDAR
VERSION:2.0
PRODID:-//Tukios.com/
BEGIN:VEVENT
UID:69c641e7-85db-425b-83d4-786d1a53e5a8@www.eddyfuneralhome.com
DTSTAMP:20260423T211304Z
DTSTART:20260425T180000Z
DTEND:20260425T190000Z
SUMMARY:Funeral Service
DESCRIPTION:
URL:https://www.eddyfuneralhome.com/obituaries/cameron-petrek
LOCATION:St. James Basilica 622 1st Avenue South  Jamestown ND 58401
GEO:46.9025882;-98.7091502
END:VEVENT
END:VCALENDAR